BEGIN:VCALENDAR
VERSION:2.0
PRODID:-//https://www.uc-baltic.de///NONSGML kigkonsult.se iCalcreator 2.10.15//
METHOD:PUBLISH
BEGIN:VEVENT
UID:20260422T220542CEST-5296WDVV8V@https://www.uc-baltic.de/
DTSTAMP:20260422T200542Z
DESCRIPTION: https://www.uc-baltic.de/veranstaltungen/kalender/ereignis/102
 0-clubabend
DTSTART:20240906T170000Z
DTEND:20240906T215900Z
LOCATION:Clubheim UC Baltic ()
SUMMARY:Clubabend
URL:https://www.uc-baltic.de/veranstaltungen/kalender/ereignis/1020-clubabe
 nd
END:VEVENT
END:VCALENDAR
