BEGIN:VCALENDAR
VERSION:2.0
PRODID:-//https://www.uc-baltic.de///NONSGML kigkonsult.se iCalcreator 2.10.15//
METHOD:PUBLISH
BEGIN:VEVENT
UID:20260423T000826CEST-4984CmtVdF@https://www.uc-baltic.de/
DTSTAMP:20260422T220826Z
DESCRIPTION: https://www.uc-baltic.de/veranstaltungen/kalender/ereignis/101
 8-clubabend
DTSTART:20240823T170000Z
DTEND:20240823T215900Z
LOCATION:Clubheim UC Baltic ()
SUMMARY:Clubabend
URL:https://www.uc-baltic.de/veranstaltungen/kalender/ereignis/1018-clubabe
 nd
END:VEVENT
END:VCALENDAR
