BEGIN:VCALENDAR
VERSION:2.0
PRODID:-//https://www.uc-baltic.de///NONSGML kigkonsult.se iCalcreator 2.10.15//
METHOD:PUBLISH
BEGIN:VEVENT
UID:20260423T000826CEST-9988AgfKRh@https://www.uc-baltic.de/
DTSTAMP:20260422T220826Z
DESCRIPTION: https://www.uc-baltic.de/veranstaltungen/kalender/ereignis/101
 6-clubabend
DTSTART:20240809T170000Z
DTEND:20240809T215900Z
LOCATION:Clubheim UC Baltic ()
SUMMARY:Clubabend
URL:https://www.uc-baltic.de/veranstaltungen/kalender/ereignis/1016-clubabe
 nd
END:VEVENT
END:VCALENDAR
