BEGIN:VCALENDAR
VERSION:2.0
PRODID:-//https://www.uc-baltic.de///NONSGML kigkonsult.se iCalcreator 2.10.15//
METHOD:PUBLISH
BEGIN:VEVENT
UID:20260423T033250CEST-8812cdUpio@https://www.uc-baltic.de/
DTSTAMP:20260423T013250Z
DESCRIPTION: https://www.uc-baltic.de/veranstaltungen/kalender/ereignis/101
 0-clubabend
DTSTART:20240628T170000Z
DTEND:20240628T215900Z
LOCATION:Clubheim UC Baltic ()
SUMMARY:Clubabend
URL:https://www.uc-baltic.de/veranstaltungen/kalender/ereignis/1010-clubabe
 nd
END:VEVENT
END:VCALENDAR
