BEGIN:VCALENDAR
VERSION:2.0
PRODID:-//https://www.uc-baltic.de///NONSGML kigkonsult.se iCalcreator 2.10.15//
METHOD:PUBLISH
BEGIN:VEVENT
UID:20260419T175803CEST-77234v11GK@https://www.uc-baltic.de/
DTSTAMP:20260419T155803Z
DESCRIPTION:Der Bewerber soll in der Theorie mit der sicheren Planung\, Vor
 bereitung und Durchführung von Nitrox Tauchgängen mit Gasgemischen\, welch
 e ausschließlich aus Stickstoff und Sauerstoff mit einem Sauerstoffanteil 
 von maximal 40% bestehen\, vertraut gemacht werden. Nach Abschluss des Kur
 ses soll er die besonderen Probleme und Gefahren bei Nitrox Tauchgängen be
 herrschen können\, die richtige Ausrüstung für Nitrox Tauchgänge zusammens
 tellen und beherrschen können\, sichere Tauchgänge innerhalb der oben gena
 nnten Grenzen durchführen können und die Vorsichtsregeln kennen\, die Vora
 ussetzung zum sicheren Umgang mit Nitrox und Sauerstoff sind. https://www.
 uc-baltic.de/veranstaltungen/kalender/ereignis/1-nitrox
DTSTART:20231227T170000Z
DTEND:20231227T203000Z
LOCATION:Unterwasserclub Baltic e.V.  (Fahrensodde 20\, 24944 Flensburg)
SUMMARY:Nitrox*
URL:https://www.uc-baltic.de/veranstaltungen/kalender/ereignis/1-nitrox
END:VEVENT
END:VCALENDAR
