BEGIN:VCALENDAR
VERSION:2.0
PRODID:-//https://www.uc-baltic.de///NONSGML kigkonsult.se iCalcreator 2.10.15//
METHOD:PUBLISH
BEGIN:VEVENT
UID:20260421T060314CEST-2762fvItOC@https://www.uc-baltic.de/
DTSTAMP:20260421T040314Z
DESCRIPTION: https://www.uc-baltic.de/component/rseventspro/ereignis/1897-f
 lossenschwimmen-do-16-00-uhr?Itemid=630
DTSTART:20260521T140000Z
DTEND:20260521T150000Z
LOCATION:Campusbad (Thomas-Fincke-Straße 19\, 24943 Flensburg)
SUMMARY:Flossenschwimmen\, Do 16:00 Uhr
URL:https://www.uc-baltic.de/component/rseventspro/ereignis/1897-flossensch
 wimmen-do-16-00-uhr?Itemid=630
END:VEVENT
END:VCALENDAR
