BEGIN:VCALENDAR
VERSION:2.0
PRODID:-//https://www.uc-baltic.de///NONSGML kigkonsult.se iCalcreator 2.10.15//
METHOD:PUBLISH
BEGIN:VEVENT
UID:20260421T040637CEST-1663mgsPf2@https://www.uc-baltic.de/
DTSTAMP:20260421T020637Z
DESCRIPTION: https://www.uc-baltic.de/component/rseventspro/ereignis/1894-f
 lossenschwimmen-do-16-00-uhr?Itemid=630
DTSTART:20260423T140000Z
DTEND:20260423T150000Z
LOCATION:Campusbad (Thomas-Fincke-Straße 19\, 24943 Flensburg)
SUMMARY:Flossenschwimmen\, Do 16:00 Uhr
URL:https://www.uc-baltic.de/component/rseventspro/ereignis/1894-flossensch
 wimmen-do-16-00-uhr?Itemid=630
END:VEVENT
END:VCALENDAR
