BEGIN:VCALENDAR
VERSION:2.0
PRODID:-//https://www.uc-baltic.de///NONSGML kigkonsult.se iCalcreator 2.10.15//
METHOD:PUBLISH
BEGIN:VEVENT
UID:20260421T112247CEST-0131JnbAVV@https://www.uc-baltic.de/
DTSTAMP:20260421T092247Z
DESCRIPTION: https://www.uc-baltic.de/component/rseventspro/ereignis/1787-f
 lossenschwimmen-fr-20-00-21-00-uhr?Itemid=630
DTSTART:20260306T190000Z
DTEND:20260306T200000Z
LOCATION:Campusbad (Thomas-Fincke-Straße 19\, 24943 Flensburg)
SUMMARY:Flossenschwimmen\, Fr 20:00 - 21:00 Uhr
URL:https://www.uc-baltic.de/component/rseventspro/ereignis/1787-flossensch
 wimmen-fr-20-00-21-00-uhr?Itemid=630
END:VEVENT
END:VCALENDAR
