BEGIN:VCALENDAR
VERSION:2.0
PRODID:-//https://www.uc-baltic.de///NONSGML kigkonsult.se iCalcreator 2.10.15//
METHOD:PUBLISH
BEGIN:VEVENT
UID:20260422T142221CEST-6062k3Nco9@https://www.uc-baltic.de/
DTSTAMP:20260422T122221Z
DESCRIPTION: https://www.uc-baltic.de/component/rseventspro/ereignis/1768-f
 lossenschwimmen-do-16-00-17-00-uhr?Itemid=630
DTSTART:20260108T150000Z
DTEND:20260108T160000Z
LOCATION:Campusbad (Thomas-Fincke-Straße 19\, 24943 Flensburg)
SUMMARY:Flossenschwimmen\, Do 16:00 - 17:00 Uhr
URL:https://www.uc-baltic.de/component/rseventspro/ereignis/1768-flossensch
 wimmen-do-16-00-17-00-uhr?Itemid=630
END:VEVENT
END:VCALENDAR
