BEGIN:VCALENDAR
VERSION:2.0
PRODID:-//https://www.uc-baltic.de///NONSGML kigkonsult.se iCalcreator 2.10.15//
METHOD:PUBLISH
BEGIN:VEVENT
UID:20260422T111048CEST-1369decE27@https://www.uc-baltic.de/
DTSTAMP:20260422T091048Z
DESCRIPTION: https://www.uc-baltic.de/component/rseventspro/ereignis/1609-f
 lossenschwimmen-do-16-00-17-00-unr-bahn-5-im-flachen-bereich?Itemid=630
DTSTART:20250904T140000Z
DTEND:20250904T150000Z
LOCATION:Campusbad (Thomas-Fincke-Straße 19\, 24943 Flensburg)
SUMMARY:Flossenschwimmen\, Do 16:00 - 17:00 Unr\, Bahn 5 im flachen Bereich
URL:https://www.uc-baltic.de/component/rseventspro/ereignis/1609-flossensch
 wimmen-do-16-00-17-00-unr-bahn-5-im-flachen-bereich?Itemid=630
END:VEVENT
END:VCALENDAR
