BEGIN:VCALENDAR
VERSION:2.0
PRODID:-//https://www.uc-baltic.de///NONSGML kigkonsult.se iCalcreator 2.10.15//
METHOD:PUBLISH
BEGIN:VEVENT
UID:20260422T110544CEST-3107VEdrtn@https://www.uc-baltic.de/
DTSTAMP:20260422T090544Z
DESCRIPTION:Treffen und Einlass: 19:45 Uhr https://www.uc-baltic.de/compone
 nt/rseventspro/ereignis/1331-flossenschwimmen-fr-20-00-21-00-uhr?Itemid=63
DTSTART:20250110T190000Z
DTEND:20250110T200000Z
LOCATION:Campusbad (Thomas-Fincke-Straße 19\, 24943 Flensburg)
SUMMARY:Flossenschwimmen\, Fr 20:00 - 21:00 Uhr
URL:https://www.uc-baltic.de/component/rseventspro/ereignis/1331-flossensch
 wimmen-fr-20-00-21-00-uhr?Itemid=630
END:VEVENT
END:VCALENDAR
