BEGIN:VCALENDAR
VERSION:2.0
PRODID:-//https://www.uc-baltic.de///NONSGML kigkonsult.se iCalcreator 2.10.15//
METHOD:PUBLISH
BEGIN:VEVENT
UID:20260420T180303CEST-4448bUlnwp@https://www.uc-baltic.de/
DTSTAMP:20260420T160303Z
DESCRIPTION: https://www.uc-baltic.de/component/rseventspro/ereignis/1291-c
 lubabend?Itemid=630
DTSTART:20250110T180000Z
DTEND:20250110T225900Z
LOCATION:Unterwasserclub Baltic e.V.  (Fahrensodde 20\, 24944 Flensburg)
SUMMARY:Clubabend
URL:https://www.uc-baltic.de/component/rseventspro/ereignis/1291-clubabend?
 Itemid=630
END:VEVENT
END:VCALENDAR
